BEGIN:VCALENDAR
VERSION:2.0
CALSCALE:GREGORIAN
METHOD:PUBLISH
PRODID://JCOC//1393287
BEGIN:VEVENT
DTSTAMP:20260424T150000
VTIMEZONE:America/Chicago
DTSTART:20251210T220000Z
DTEND:20251210T230000Z
UID:1393287
SUMMARY:Ribbon Cutting: Oklahoma Central Credit Union
LOCATION:3402 W 114th St S, Jenks, OK, 74037
DESCRIPTION:Ribbon Cutting: Oklahoma Central Credit Union\n\n12/10/25 04:00 PM CST\n - 12/10/25 05:00 PM CST\Description:\nJoin the Jenks Chamber of Commerce for a ribbon cutting celebrating Oklahoma Central Credit Union’s new Jenks location on Wednesday, December 10 at 4pm. Oklahoma Central Credit Union serves members by offering reliable financial services, community-focused support, and tools to help families and businesses thrive. Come help us welcome their team to Jenks, connect with fellow Chamber members, and show your support for a growing local business.\Location:\n3402 W 114th St S\n\nJenks, OK 74037
X-ALT-DESC;FMTTYPE=text/html:Ribbon Cutting: Oklahoma Central Credit Union<br /><br />12/10/25 04:00 PM CST - 12/10/25 05:00 PM CST<br />Description:<br />Join the Jenks Chamber of Commerce for a ribbon cutting celebrating Oklahoma Central Credit Union&rsquo;s new Jenks location on Wednesday, December 10 at 4pm. Oklahoma Central Credit Union serves members by offering reliable financial services, community-focused support, and tools to help families and businesses thrive. Come help us welcome their team to Jenks, connect with fellow Chamber members, and show your support for a growing local business.<br />Location:<br />3402 W 114th St S<br /><br />Jenks, OK 74037
PRIORITY:3
TRANSP:TRANSPARENT
BEGIN:VALARM
TRIGGER:-PT5M
ACTION:DISPLAY
DESCRIPTION:Reminder
END:VALARM
END:VEVENT
END:VCALENDAR
