BEGIN:VCALENDAR
VERSION:2.0
CALSCALE:GREGORIAN
METHOD:PUBLISH
PRODID://OCON//1393330
BEGIN:VEVENT
DTSTAMP:20260424T130117
VTIMEZONE:America/New_York
DTSTART:20260115T213000Z
DTEND:20260115T223000Z
UID:1393330
SUMMARY:Ribbon Cutting | Georgia Center for Sight
LOCATION:Georgia Center for Sight, 1080 Vend Drive, Watkinsville, GA, 30677
DESCRIPTION:Ribbon Cutting | Georgia Center for Sight\n\n01/15/26 04:30 PM EST\n - 01/15/26 05:30 PM EST\Location:\nGeorgia Center for Sight\n1080 Vend Drive\nWatkinsville, GA 30677
X-ALT-DESC;FMTTYPE=text/html:Ribbon Cutting | Georgia Center for Sight<br /><br />01/15/26 04:30 PM EST - 01/15/26 05:30 PM EST<br />Location:<br />Georgia Center for Sight<br />1080 Vend Drive<br />Watkinsville, GA 30677
PRIORITY:3
TRANSP:TRANSPARENT
BEGIN:VALARM
TRIGGER:-PT5M
ACTION:DISPLAY
DESCRIPTION:Reminder
END:VALARM
END:VEVENT
END:VCALENDAR
