BEGIN:VCALENDAR
VERSION:2.0
CALSCALE:GREGORIAN
METHOD:PUBLISH
PRODID://JCOC//1393349
BEGIN:VEVENT
DTSTAMP:20260424T150057
VTIMEZONE:America/Chicago
DTSTART:20251209T170000Z
DTEND:20251209T190000Z
UID:1393349
SUMMARY:Ribbon Cutting & Open House at Oak Hill Townhomes
LOCATION:Oak Hill Townhomes, 3401 Redbud Lane, Tulsa, OK, 74132
DESCRIPTION:Ribbon Cutting & Open House at Oak Hill Townhomes\n\n12/09/25 11:00 AM CST\n - 12/09/25 01:00 PM CST\Description:\nJoin us for a ribbon cutting and holiday-themed open house to celebrate the opening of Oak Hill Townhomes. The brand-new, thoughtfully designed townhomes feature spacious layouts, high-end finishes, and abundant natural light, creating a warm and inviting place to call home. The gated, park-like community is located just minutes from Tulsa Hills dining, shopping, and entertainment. With the highly regarded Jenks School District, top-tier amenities, and easy access to major highways, Oak Hill offers a balanced blend of luxury, location, and lifestyle.\Details:\nRibbon Cutting by Chamber and Holiday themed Open House to the new townhomes.  We will be showing the model and the clubhouse with finger foods and beverages.\Location:\nOak Hill Townhomes\n3401 Redbud Lane\nTulsa, OK 74132
X-ALT-DESC;FMTTYPE=text/html:Ribbon Cutting & Open House at Oak Hill Townhomes<br /><br />12/09/25 11:00 AM CST - 12/09/25 01:00 PM CST<br />Description:<br />Join us for a ribbon cutting and holiday-themed open house to celebrate the opening of Oak Hill Townhomes. The brand-new, thoughtfully designed townhomes feature spacious layouts, high-end finishes, and abundant natural light, creating a warm and inviting place to call home. The gated, park-like community is located just minutes from Tulsa Hills dining, shopping, and entertainment. With the highly regarded Jenks School District, top-tier amenities, and easy access to major highways, Oak Hill offers a balanced blend of luxury, location, and lifestyle.<br />Details:<br />Ribbon Cutting by Chamber and Holiday themed Open House to the new townhomes.&nbsp; We will be showing the model and the clubhouse with finger foods and beverages.<br />Location:<br />Oak Hill Townhomes<br />3401 Redbud Lane<br />Tulsa, OK 74132
PRIORITY:3
TRANSP:TRANSPARENT
BEGIN:VALARM
TRIGGER:-PT5M
ACTION:DISPLAY
DESCRIPTION:Reminder
END:VALARM
END:VEVENT
END:VCALENDAR
