BEGIN:VCALENDAR
VERSION:2.0
CALSCALE:GREGORIAN
METHOD:PUBLISH
PRODID://OCON//1393376
BEGIN:VEVENT
DTSTAMP:20260424T130106
VTIMEZONE:America/New_York
DTSTART:20260127T220000Z
DTEND:20260128T000000Z
UID:1393376
SUMMARY:Oconee Chamber Annual Meeting & Awards
LOCATION:Rocket Hall Gym, 34 School Street, Watkinsville, GA, 30677
DESCRIPTION:Oconee Chamber Annual Meeting & Awards\n\n01/27/26 05:00 PM EST\n - 01/27/26 07:00 PM EST\Description:\nJoin us in celebrating what a great year 2025 was! Fun was had, new connections were made, sold out events, welcomed new businesses, reached goals and more. This event is an "After Hours" style with hors d'oeuvres and beer and wine. The program will begin around 6:00 p.m.\n\n\nRegistration Required!\Location:\nRocket Hall Gym\n34 School Street\nWatkinsville, GA 30677
X-ALT-DESC;FMTTYPE=text/html:Oconee Chamber Annual Meeting & Awards<br /><br />01/27/26 05:00 PM EST - 01/27/26 07:00 PM EST<br />Description:<br />Join us in celebrating what a great year 2025 was! Fun was had, new connections were made, sold out events, welcomed new businesses, reached goals and more. This event is an &quot;After Hours&quot; style with&nbsp;hors d'oeuvres and beer and wine. The program will begin around 6:00 p.m.<br />
<br />
<br />
Registration Required!<br />Location:<br />Rocket Hall Gym<br />34 School Street<br />Watkinsville, GA 30677
PRIORITY:3
TRANSP:TRANSPARENT
BEGIN:VALARM
TRIGGER:-PT5M
ACTION:DISPLAY
DESCRIPTION:Reminder
END:VALARM
END:VEVENT
END:VCALENDAR
