BEGIN:VCALENDAR
VERSION:2.0
CALSCALE:GREGORIAN
METHOD:PUBLISH
PRODID://KING//1393834
BEGIN:VEVENT
DTSTAMP:20260422T115344
VTIMEZONE:America/Denver
DTSTART:20251206T000000Z
DTEND:20251207T030000Z
UID:1393834
SUMMARY:Mohave College Community Education Art Show and Sale
LOCATION:Mohave College Beale Campus, 309 E Beale St, Kingman, AZ, 86401
DESCRIPTION:Mohave College Community Education Art Show and Sale\n\n12/05/25 05:00 PM MST\n - 12/06/25 08:00 PM MST\Description:\nShop unique artwork crafted by Mohave College Community Education Students. The Art Show will be held Friday, December 5 from 5PM to 8PM and Saturday, December 6 from 5PM to 8PM. Come support local talent!!\Details:\nShop unique artwork crafted by Mohave College Community Education Students. The Art Show will be held Friday, December 5 from 5PM to 8PM and Saturday, December 6 from 5PM to 8PM. Come support local talent!!\Location:\nMohave College Beale Campus\n309 E Beale St\nKingman, AZ 86401
X-ALT-DESC;FMTTYPE=text/html:Mohave College Community Education Art Show and Sale<br /><br />12/05/25 05:00 PM MST - 12/06/25 08:00 PM MST<br />Description:<br />Shop unique artwork crafted by Mohave College Community Education Students. The Art Show will be held Friday, December 5 from 5PM to 8PM and Saturday, December 6 from 5PM to 8PM. Come support local talent!!<br />Details:<br />Shop unique artwork crafted by Mohave College Community Education Students. The Art Show will be held Friday, December 5 from 5PM to 8PM and Saturday, December 6 from 5PM to 8PM. Come support local talent!!<br />Location:<br />Mohave College Beale Campus<br />309 E Beale St<br />Kingman, AZ 86401
PRIORITY:3
TRANSP:TRANSPARENT
BEGIN:VALARM
TRIGGER:-PT5M
ACTION:DISPLAY
DESCRIPTION:Reminder
END:VALARM
END:VEVENT
END:VCALENDAR
