BEGIN:VCALENDAR
VERSION:2.0
CALSCALE:GREGORIAN
METHOD:PUBLISH
PRODID://PLYC//1394105
BEGIN:VEVENT
DTSTAMP:20260424T123214
VTIMEZONE:America/New_York
DTSTART:20251206T163000Z
DTEND:20251206T173000Z
UID:1394105
SUMMARY:ORKEST: Annette Ray & Friends from Marshall County Orchestra
LOCATION:Heartland Art Center, 214 N. Michigan St., Plymouth, IN, 46563
DESCRIPTION:ORKEST: Annette Ray & Friends from Marshall County Orchestra\n\n12/06/25 11:30 AM EST\n - 12/06/25 12:30 PM EST\Description:\nKick off December with Marshall County Orchestra's very own ensemble, Orkest — a lively, community favorite perfect for a cozy Saturday morning.  Free and open to the public!\Details:\nCost: FREE\Location:\nHeartland Art Center\n214 N. Michigan St.\nPlymouth, IN 46563
X-ALT-DESC;FMTTYPE=text/html:ORKEST: Annette Ray & Friends from Marshall County Orchestra<br /><br />12/06/25 11:30 AM EST - 12/06/25 12:30 PM EST<br />Description:<br />Kick off December with Marshall County Orchestra's very own ensemble,&nbsp;<em data-end="984" data-start="976">Orkest</em> &mdash; a lively, community favorite perfect for a cozy Saturday morning.&nbsp; Free and open to the public!<br />Details:<br />Cost: FREE<br />Location:<br />Heartland Art Center<br />214 N. Michigan St.<br />Plymouth, IN 46563
PRIORITY:3
TRANSP:TRANSPARENT
BEGIN:VALARM
TRIGGER:-PT5M
ACTION:DISPLAY
DESCRIPTION:Reminder
END:VALARM
END:VEVENT
END:VCALENDAR
