BEGIN:VCALENDAR
VERSION:2.0
CALSCALE:GREGORIAN
METHOD:PUBLISH
PRODID://KING//1394300
BEGIN:VEVENT
DTSTAMP:20260422T115544
VTIMEZONE:America/Denver
DTSTART:20251213T143000Z
DTEND:20251214T003000Z
UID:1394300
SUMMARY:Depuy Auction
LOCATION:Mohave County Fairgrounds - Expo Building A, 2600 Fairgrounds Blvd, Kingman, AZ, 86401
DESCRIPTION:Depuy Auction\n\n12/13/25 07:30 AM MST\n - 12/13/25 05:30 PM MST\Location:\nMohave County Fairgrounds - Expo Building A\n2600 Fairgrounds Blvd\nKingman, AZ 86401
X-ALT-DESC;FMTTYPE=text/html:Depuy Auction<br /><br />12/13/25 07:30 AM MST - 12/13/25 05:30 PM MST<br />Location:<br />Mohave County Fairgrounds - Expo Building A<br />2600 Fairgrounds Blvd<br />Kingman, AZ 86401
PRIORITY:3
TRANSP:TRANSPARENT
BEGIN:VALARM
TRIGGER:-PT5M
ACTION:DISPLAY
DESCRIPTION:Reminder
END:VALARM
END:VEVENT
END:VCALENDAR
