BEGIN:VCALENDAR
VERSION:2.0
CALSCALE:GREGORIAN
METHOD:PUBLISH
PRODID://KING//1394306
BEGIN:VEVENT
DTSTAMP:20260422T120119
VTIMEZONE:America/Denver
DTSTART:20251212T210000Z
DTEND:20251213T020000Z
UID:1394306
SUMMARY:I Heart Cookies 
LOCATION:Mohave County Fairgrounds - Main Parking Lot , 2600 Faigrounds Blvd., Kingman, AZ, 86401
DESCRIPTION:I Heart Cookies \n\n12/12/25 02:00 PM MST\n - 12/12/25 07:00 PM MST\Location:\nMohave County Fairgrounds - Main Parking Lot \n2600 Faigrounds Blvd.\nKingman, AZ 86401
X-ALT-DESC;FMTTYPE=text/html:I Heart Cookies <br /><br />12/12/25 02:00 PM MST - 12/12/25 07:00 PM MST<br />Location:<br />Mohave County Fairgrounds - Main Parking Lot <br />2600 Faigrounds Blvd.<br />Kingman, AZ 86401
PRIORITY:3
TRANSP:TRANSPARENT
BEGIN:VALARM
TRIGGER:-PT5M
ACTION:DISPLAY
DESCRIPTION:Reminder
END:VALARM
END:VEVENT
END:VCALENDAR
