BEGIN:VCALENDAR
VERSION:2.0
CALSCALE:GREGORIAN
METHOD:PUBLISH
PRODID://KING//1394559
BEGIN:VEVENT
DTSTAMP:20260422T115405
VTIMEZONE:America/Denver
DTSTART:20251208T183000Z
DTEND:20251208T200000Z
UID:1394559
SUMMARY:Business Bites Next Level Mastermind
LOCATION:MCC Beale St. Center, 309 E. Beale St., Kingman, AZ, 86401
DESCRIPTION:Business Bites Next Level Mastermind\n\n12/08/25 11:30 AM MST\n - 12/08/25 01:00 PM MST\Description:\n \nJoin us for the next Business Bites: Next Level Mastermind!\nLearn how to protect your business from bank fraud and scams with expert insights from Amanda Heiler of National Bank of Arizona. Take advantage of this valuable opportunity for connection, support, and collaboration ðŸ’¼\n\nðŸ“… December 8th\nâ° 11:30 AM – 1 PM\nðŸ“ Mohave College — 309 E. Beale St.\nðŸ¥ª Bring your own lunch!\n\nOpen to business owners, entrepreneurs, and managers.\nMark your calendar and take your business to the next level! ðŸš€\n\n\nCreated for Kingman Chamber Member Business Owners, Entrepreneurs, and Managers who want to connect, collaborate, and gain valuable insights to grow their business with support from like-minded peers.\n\nEach month, a specific topic will be discussed, typically for the first 45 minutes, offering valuable strategies and actionable takeaways. The remaining time will be an open forum for attendees to seek guidance, share challenges, and receive support tailored to their unique business needs. Time frames are flexible and may vary based on discussion flow and group engagement.\n\nIf you are a member or an employee of a member and need assistance, contact our office at (928) 753-6253.\Location:\nMCC Beale St. Center\n309 E. Beale St.\nKingman, AZ 86401
X-ALT-DESC;FMTTYPE=text/html:Business Bites Next Level Mastermind<br /><br />12/08/25 11:30 AM MST - 12/08/25 01:00 PM MST<br />Description:<br />&nbsp;
<p data-end="352" data-start="61"><strong data-end="124" data-start="61">Join us for the next Business Bites: Next Level Mastermind!</strong><br data-end="127" data-start="124" />
Learn how to protect your business from&nbsp;<em data-end="189" data-start="167">bank fraud and scams</em>&nbsp;with expert insights from&nbsp;<strong data-end="261" data-is-only-node="" data-start="216">Amanda Heiler of National Bank of Arizona</strong>. Take advantage of this valuable opportunity for connection, support, and collaboration ðŸ’¼</p>

<p data-end="471" data-start="354">ðŸ“…&nbsp;<strong data-end="373" data-start="357">December 8th</strong><br data-end="376" data-start="373" />
â°&nbsp;<strong data-end="397" data-start="378">11:30 AM &ndash; 1 PM</strong><br data-end="400" data-is-only-node="" data-start="397" />
ðŸ“&nbsp;<strong data-end="440" data-start="403">Mohave College &mdash; 309 E. Beale St.</strong><br data-end="443" data-start="440" />
ðŸ¥ª&nbsp;<em data-end="469" data-start="446">Bring your own lunch!</em></p>

<p data-end="596" data-is-last-node="" data-is-only-node="" data-start="473">Open to business owners, entrepreneurs, and managers.<br data-end="529" data-start="526" />
<strong data-end="593" data-start="529">Mark your calendar and take your business to the next level!</strong>&nbsp;ðŸš€</p>
<br />
<br />
<span style="font-size:14px">Created for Kingman Chamber Member Business Owners, Entrepreneurs, and Managers who want to connect, collaborate, and gain valuable insights to grow their business with support from like-minded peers.<br />
<br />
Each month, a specific topic will be discussed, typically for the first 45 minutes, offering valuable strategies and actionable takeaways. The remaining time will be an open forum for attendees to seek guidance, share challenges, and receive support tailored to their unique business needs. Time frames are flexible and may vary based on discussion flow and group engagement.<br />
<br />
If you are a member or an employee of a member and need assistance, contact our office at (928) 753-6253.</span><br />Location:<br />MCC Beale St. Center<br />309 E. Beale St.<br />Kingman, AZ 86401
PRIORITY:3
TRANSP:TRANSPARENT
BEGIN:VALARM
TRIGGER:-PT5M
ACTION:DISPLAY
DESCRIPTION:Reminder
END:VALARM
END:VEVENT
END:VCALENDAR
