BEGIN:VCALENDAR
VERSION:2.0
CALSCALE:GREGORIAN
METHOD:PUBLISH
PRODID://BETH//1394730
BEGIN:VEVENT
DTSTAMP:20260424T112911
VTIMEZONE:America/Chicago
DTSTART:20260129T233000Z
DTEND:20260130T013000Z
UID:1394730
SUMMARY:2026 Chamber Kickoff Party
LOCATION:, IL
DESCRIPTION:2026 Chamber Kickoff Party\n\n01/29/26 05:30 PM CST\n - 01/29/26 07:30 PM CST\Description:\nThursday, January 29, 2026\n5:30-7:30 p.m.\nAirport Plaza Bowl\nRSVP by January 23, 2026\n618-910-0819\n\nJoin your fellow chamber members for\nfood, drinks, social and fun!\nBe our guest and bring a guest!\n\n 
X-ALT-DESC;FMTTYPE=text/html:2026 Chamber Kickoff Party<br /><br />01/29/26 05:30 PM CST - 01/29/26 07:30 PM CST<br />Description:<br />Thursday, January 29, 2026<br />
5:30-7:30 p.m.<br />
Airport Plaza Bowl<br />
RSVP by January 23, 2026<br />
618-910-0819<br />
<br />
Join your fellow chamber members for<br />
food, drinks, social and fun!<br />
Be our guest and bring a guest!<br />
<br />
&nbsp;
PRIORITY:3
TRANSP:TRANSPARENT
BEGIN:VALARM
TRIGGER:-PT5M
ACTION:DISPLAY
DESCRIPTION:Reminder
END:VALARM
END:VEVENT
END:VCALENDAR
