BEGIN:VCALENDAR
VERSION:2.0
CALSCALE:GREGORIAN
METHOD:PUBLISH
PRODID://PLYC//1394879
BEGIN:VEVENT
DTSTAMP:20260424T112912
VTIMEZONE:America/New_York
DTSTART:20260109T000000Z
DTEND:20260109T010000Z
UID:1394879
SUMMARY:Sound Healing & Reiki Group Meditation
LOCATION:The Union, Wellness Boutique, 2159 N Oak Road, Plymouth, IN, 46563
DESCRIPTION:Sound Healing & Reiki Group Meditation\n\n01/08/26 07:00 PM EST\n - 01/08/26 08:00 PM EST\Description:\nEmbark on a transformative journey of inner peace and relaxation through the harmonious vibrations of sound healing meditation.\Details:\nEmbark on a transformative journey of inner peace and relaxation through the harmonious vibrations of sound healing meditation.\Location:\nThe Union, Wellness Boutique\n2159 N Oak Road\nPlymouth, IN 46563
X-ALT-DESC;FMTTYPE=text/html:Sound Healing & Reiki Group Meditation<br /><br />01/08/26 07:00 PM EST - 01/08/26 08:00 PM EST<br />Description:<br />Embark on a transformative journey of inner peace and relaxation through the harmonious vibrations of sound healing meditation.<br />Details:<br />Embark on a transformative journey of inner peace and relaxation through the harmonious vibrations of sound healing meditation.<br />Location:<br />The Union, Wellness Boutique<br />2159 N Oak Road<br />Plymouth, IN 46563
PRIORITY:3
TRANSP:TRANSPARENT
BEGIN:VALARM
TRIGGER:-PT5M
ACTION:DISPLAY
DESCRIPTION:Reminder
END:VALARM
END:VEVENT
END:VCALENDAR
