BEGIN:VCALENDAR
VERSION:2.0
CALSCALE:GREGORIAN
METHOD:PUBLISH
PRODID://PLYC//1394892
BEGIN:VEVENT
DTSTAMP:20260424T110745
VTIMEZONE:America/New_York
DTSTART:20260112T223000Z
DTEND:20260112T233000Z
UID:1394892
SUMMARY:FREE Sound Bath: Healing & Hope (Cancer Support)
LOCATION:The Union, Wellness Boutique, 2159 N Oak Road, Plymouth, IN, 46563
DESCRIPTION:FREE Sound Bath: Healing & Hope (Cancer Support)\n\n01/12/26 05:30 PM EST\n - 01/12/26 06:30 PM EST\Description:\nHosted by The Union, Wellness Boutique, in partnership with the Cancer Association of Marshall County.  A free restorative Sound Bath experience designed to nurture healing, peace, and hope.\Details:\nHosted by The Union, Wellness Boutique, in partnership with the Cancer Association of Marshall County.  A free restorative Sound Bath experience designed to nurture healing, peace, and hope.\Location:\nThe Union, Wellness Boutique\n2159 N Oak Road\nPlymouth, IN 46563
X-ALT-DESC;FMTTYPE=text/html:FREE Sound Bath: Healing & Hope (Cancer Support)<br /><br />01/12/26 05:30 PM EST - 01/12/26 06:30 PM EST<br />Description:<br />Hosted by The Union, Wellness Boutique, in partnership with the Cancer Association of Marshall County.&nbsp; A free restorative Sound Bath experience designed to nurture healing, peace, and hope.<br />Details:<br />Hosted by The Union, Wellness Boutique, in partnership with the Cancer Association of Marshall County.&nbsp; A free restorative Sound Bath experience designed to nurture healing, peace, and hope.<br />Location:<br />The Union, Wellness Boutique<br />2159 N Oak Road<br />Plymouth, IN 46563
PRIORITY:3
TRANSP:TRANSPARENT
BEGIN:VALARM
TRIGGER:-PT5M
ACTION:DISPLAY
DESCRIPTION:Reminder
END:VALARM
END:VEVENT
END:VCALENDAR
