BEGIN:VCALENDAR
VERSION:2.0
CALSCALE:GREGORIAN
METHOD:PUBLISH
PRODID://KING//1395304
BEGIN:VEVENT
DTSTAMP:20260422T104412
VTIMEZONE:America/Denver
DTSTART:20260110T020000Z
DTEND:20260110T050000Z
UID:1395304
SUMMARY:Rock & Roll Showdown
LOCATION:Beale Street Theater , 302 E. Beale St., Kingman, AZ, 86401
DESCRIPTION:Rock & Roll Showdown\n\n01/09/26 07:00 PM MST\n - 01/09/26 10:00 PM MST\Description:\nBeale Street Theater welcomes AC/DC vs OZZY-A Rock & Roll Showdown of the decade including Mr Crowley's Ozzy Experience in a salute to the life of the Prince Of Darkness-Ozzy Osbourne battling against Noise Pollution The AC/DC Experience!!\n\n10 players who are at the top of their games in an entertaining blitz of the best hits, capping off at the end of the show with both bands on stage doing a mash up!\n\nAC/DC vs OZZY A Rock & Roll Showdown has two of America's most authentic tributes, Noise Pollution The AC/DC Experience & Mr Crowley's Ozzy Experience!\n\nA 2+ Hour show of hits from both libraries featuring two of the nation's top acts in their fields.\n\Location:\nBeale Street Theater \n302 E. Beale St.\nKingman, AZ 86401
X-ALT-DESC;FMTTYPE=text/html:Rock & Roll Showdown<br /><br />01/09/26 07:00 PM MST - 01/09/26 10:00 PM MST<br />Description:<br /><p data-olk-copy-source="MessageBody">Beale Street Theater welcomes&nbsp;<strong>AC/DC vs OZZY-A Rock &amp; Roll Showdown</strong>&nbsp;of the decade including&nbsp;<strong>Mr Crowley's Ozzy Experience</strong>&nbsp;in a salute to the life of the Prince Of Darkness-Ozzy Osbourne battling against&nbsp;<strong>Noise Pollution The AC/DC Experience!!</strong></p>

<p>10 players who are at the top of their games in an entertaining blitz of the best hits, capping off at the end of the show with both bands on stage doing a mash up!</p>

<p>AC/DC vs OZZY A Rock &amp; Roll Showdown has two of America's most authentic tributes,&nbsp;<strong>Noise Pollution The AC/DC Experience &amp; Mr Crowley's Ozzy Experience!</strong></p>

<p>A 2+ Hour show of hits from both libraries featuring two of the nation's top acts in their fields<strong>.</strong></p>
<br />Location:<br />Beale Street Theater <br />302 E. Beale St.<br />Kingman, AZ 86401
PRIORITY:3
TRANSP:TRANSPARENT
BEGIN:VALARM
TRIGGER:-PT5M
ACTION:DISPLAY
DESCRIPTION:Reminder
END:VALARM
END:VEVENT
END:VCALENDAR
