BEGIN:VCALENDAR
VERSION:2.0
CALSCALE:GREGORIAN
METHOD:PUBLISH
PRODID://LASS//1395338
BEGIN:VEVENT
DTSTAMP:20260424T123939
VTIMEZONE:America/Los_Angeles
DTSTART:20251213T200000Z
DTEND:20251213T230000Z
UID:1395338
SUMMARY:Pet Pictures with Santa
LOCATION:Milwood Florist
DESCRIPTION:Pet Pictures with Santa\n\n12/13/25 12:00 PM PST\n - 12/13/25 03:00 PM PST\Location:\nMilwood Florist\n\n,
X-ALT-DESC;FMTTYPE=text/html:Pet Pictures with Santa<br /><br />12/13/25 12:00 PM PST - 12/13/25 03:00 PM PST<br />Location:<br />Milwood Florist<br /><br />,  
PRIORITY:3
TRANSP:TRANSPARENT
BEGIN:VALARM
TRIGGER:-PT5M
ACTION:DISPLAY
DESCRIPTION:Reminder
END:VALARM
END:VEVENT
END:VCALENDAR
