BEGIN:VCALENDAR
VERSION:2.0
CALSCALE:GREGORIAN
METHOD:PUBLISH
PRODID://LASS//1395339
BEGIN:VEVENT
DTSTAMP:20260424T123927
VTIMEZONE:America/Los_Angeles
DTSTART:20251214T200000Z
DTEND:20251214T220000Z
UID:1395339
SUMMARY:Our Lady of Guadalupe
LOCATION:Sacred Heart Parish Hall, 120 N Union Street , Susanville
DESCRIPTION:Our Lady of Guadalupe\n\n12/14/25 12:00 PM PST\n - 12/14/25 02:00 PM PST\Location:\nSacred Heart Parish Hall\n120 N Union Street \nSusanville,
X-ALT-DESC;FMTTYPE=text/html:Our Lady of Guadalupe<br /><br />12/14/25 12:00 PM PST - 12/14/25 02:00 PM PST<br />Location:<br />Sacred Heart Parish Hall<br />120 N Union Street <br />Susanville,  
PRIORITY:3
TRANSP:TRANSPARENT
BEGIN:VALARM
TRIGGER:-PT5M
ACTION:DISPLAY
DESCRIPTION:Reminder
END:VALARM
END:VEVENT
END:VCALENDAR
