BEGIN:VCALENDAR
VERSION:2.0
CALSCALE:GREGORIAN
METHOD:PUBLISH
PRODID://LASS//1395341
BEGIN:VEVENT
DTSTAMP:20260424T123928
VTIMEZONE:America/Los_Angeles
DTSTART:20251202T190000Z
DTEND:20251231T220000Z
UID:1395341
SUMMARY:Lassen Library December Storytime 
LOCATION:Lassen Library
DESCRIPTION:Lassen Library December Storytime \n\n12/02/25 11:00 AM PST\n - 12/31/25 02:00 PM PST\Location:\nLassen Library\n\n,
X-ALT-DESC;FMTTYPE=text/html:Lassen Library December Storytime <br /><br />12/02/25 11:00 AM PST - 12/31/25 02:00 PM PST<br />Location:<br />Lassen Library<br /><br />,  
PRIORITY:3
TRANSP:TRANSPARENT
BEGIN:VALARM
TRIGGER:-PT5M
ACTION:DISPLAY
DESCRIPTION:Reminder
END:VALARM
END:VEVENT
END:VCALENDAR
