BEGIN:VCALENDAR
VERSION:2.0
CALSCALE:GREGORIAN
METHOD:PUBLISH
PRODID://LASS//1395343
BEGIN:VEVENT
DTSTAMP:20260424T123927
VTIMEZONE:America/Los_Angeles
DTSTART:20251213T223000Z
DTEND:20251215T050000Z
UID:1395343
SUMMARY:Susanville City Kickettes Christmas Extraordinaire
LOCATION:Susanville Veterans Hall
DESCRIPTION:Susanville City Kickettes Christmas Extraordinaire\n\n12/13/25 02:30 PM PST\n - 12/14/25 09:00 PM PST\Location:\nSusanville Veterans Hall\n\n,
X-ALT-DESC;FMTTYPE=text/html:Susanville City Kickettes Christmas Extraordinaire<br /><br />12/13/25 02:30 PM PST - 12/14/25 09:00 PM PST<br />Location:<br />Susanville Veterans Hall<br /><br />,  
PRIORITY:3
TRANSP:TRANSPARENT
BEGIN:VALARM
TRIGGER:-PT5M
ACTION:DISPLAY
DESCRIPTION:Reminder
END:VALARM
END:VEVENT
END:VCALENDAR
