BEGIN:VCALENDAR
VERSION:2.0
CALSCALE:GREGORIAN
METHOD:PUBLISH
PRODID://LASS//1395347
BEGIN:VEVENT
DTSTAMP:20260424T123927
VTIMEZONE:America/Los_Angeles
DTSTART:20251212T200000Z
DTEND:20251214T020000Z
UID:1395347
SUMMARY:Standish 4H Winter Craft Show
LOCATION:Standish 4H Hall , 718-880 East Hwy 395 , Standish
DESCRIPTION:Standish 4H Winter Craft Show\n\n12/12/25 12:00 PM PST\n - 12/13/25 06:00 PM PST\Location:\nStandish 4H Hall \n718-880 East Hwy 395 \nStandish,
X-ALT-DESC;FMTTYPE=text/html:Standish 4H Winter Craft Show<br /><br />12/12/25 12:00 PM PST - 12/13/25 06:00 PM PST<br />Location:<br />Standish 4H Hall <br />718-880 East Hwy 395 <br />Standish,  
PRIORITY:3
TRANSP:TRANSPARENT
BEGIN:VALARM
TRIGGER:-PT5M
ACTION:DISPLAY
DESCRIPTION:Reminder
END:VALARM
END:VEVENT
END:VCALENDAR
