BEGIN:VCALENDAR
VERSION:2.0
CALSCALE:GREGORIAN
METHOD:PUBLISH
PRODID://PLYC//1395350
BEGIN:VEVENT
DTSTAMP:20260424T123238
VTIMEZONE:America/New_York
DTSTART:20251212T180000Z
DTEND:20251212T190000Z
UID:1395350
SUMMARY:South Bend Symphony Orchestra's Symphony-to-Go
LOCATION:Heartland Art Center, 214 N. Michigan St., Plymouth, IN, 46563
DESCRIPTION:South Bend Symphony Orchestra's Symphony-to-Go\n\n12/12/25 01:00 PM EST\n - 12/12/25 02:00 PM EST\Description:\nJoin us for an intimate midday concert from musicians of the South Bend Symphony Orchestra. A beautiful, close-up symphonic experience right here in Plymouth. FREE and donations are appreciated!\Details:\nFree, donations are appreciated\Location:\nHeartland Art Center\n214 N. Michigan St.\nPlymouth, IN 46563
X-ALT-DESC;FMTTYPE=text/html:South Bend Symphony Orchestra's Symphony-to-Go<br /><br />12/12/25 01:00 PM EST - 12/12/25 02:00 PM EST<br />Description:<br />Join us for an intimate midday concert from musicians of the South Bend Symphony Orchestra. A beautiful, close-up symphonic experience right here in Plymouth. FREE and donations are appreciated!<br />Details:<br />Free, donations are appreciated<br />Location:<br />Heartland Art Center<br />214 N. Michigan St.<br />Plymouth, IN 46563
PRIORITY:3
TRANSP:TRANSPARENT
BEGIN:VALARM
TRIGGER:-PT5M
ACTION:DISPLAY
DESCRIPTION:Reminder
END:VALARM
END:VEVENT
END:VCALENDAR
