BEGIN:VCALENDAR
VERSION:2.0
CALSCALE:GREGORIAN
METHOD:PUBLISH
PRODID://PLYC//1395351
BEGIN:VEVENT
DTSTAMP:20260424T123214
VTIMEZONE:America/New_York
DTSTART:20251212T180000Z
DTEND:20251212T190000Z
UID:1395351
SUMMARY:Artist Reception & Art Talk with Ramiro Rodriguez
LOCATION:Heartland Art Center, 214 N. Michigan St., Plymouth, IN, 46563
DESCRIPTION:Artist Reception & Art Talk with Ramiro Rodriguez\n\n12/12/25 01:00 PM EST\n - 12/12/25 02:00 PM EST\Description:\nExhibition Reception and Artist Talk\nJoin us on Friday, December 12 from 6 to 8 pm for a reception and artist talk with Ramiro Rodriguez. This is a wonderful opportunity to meet the artist, hear the stories behind his work, and experience the exhibition in a more personal way. Light refreshments will be available and all are welcome to attend.\Details:\nFree\Location:\nHeartland Art Center\n214 N. Michigan St.\nPlymouth, IN 46563
X-ALT-DESC;FMTTYPE=text/html:Artist Reception & Art Talk with Ramiro Rodriguez<br /><br />12/12/25 01:00 PM EST - 12/12/25 02:00 PM EST<br />Description:<br /><strong data-end="164" data-start="124">Exhibition Reception and Artist Talk</strong><br data-end="167" data-start="164" />
Join us on <strong data-end="216" data-start="178">Friday, December 12 from 6 to 8 pm</strong> for a reception and artist talk with Ramiro Rodriguez. This is a wonderful opportunity to meet the artist, hear the stories behind his work, and experience the exhibition in a more personal way. Light refreshments will be available and all are welcome to attend.<br />Details:<br />Free<br />Location:<br />Heartland Art Center<br />214 N. Michigan St.<br />Plymouth, IN 46563
PRIORITY:3
TRANSP:TRANSPARENT
BEGIN:VALARM
TRIGGER:-PT5M
ACTION:DISPLAY
DESCRIPTION:Reminder
END:VALARM
END:VEVENT
END:VCALENDAR
