BEGIN:VCALENDAR
VERSION:2.0
CALSCALE:GREGORIAN
METHOD:PUBLISH
PRODID://PLYC//1395352
BEGIN:VEVENT
DTSTAMP:20260424T123213
VTIMEZONE:America/New_York
DTSTART:20251213T163000Z
DTEND:20251213T173000Z
UID:1395352
SUMMARY:Sherry-oke with Sherry Klinedinst
LOCATION:Heartland Art Center, 214 N. Michigan St., Plymouth, IN, 46563
DESCRIPTION:Sherry-oke with Sherry Klinedinst\n\n12/13/25 11:30 AM EST\n - 12/13/25 12:30 PM EST\Description:\nJoin us for holiday karaoke with Sherry’s infectious piano energy. Lighthearted, festive, and fun for everyone!\Details:\nFree!\Location:\nHeartland Art Center\n214 N. Michigan St.\nPlymouth, IN 46563
X-ALT-DESC;FMTTYPE=text/html:Sherry-oke with Sherry Klinedinst<br /><br />12/13/25 11:30 AM EST - 12/13/25 12:30 PM EST<br />Description:<br />Join us for holiday karaoke with Sherry&rsquo;s infectious piano energy. Lighthearted, festive, and fun for everyone!<br />Details:<br />Free!<br />Location:<br />Heartland Art Center<br />214 N. Michigan St.<br />Plymouth, IN 46563
PRIORITY:3
TRANSP:TRANSPARENT
BEGIN:VALARM
TRIGGER:-PT5M
ACTION:DISPLAY
DESCRIPTION:Reminder
END:VALARM
END:VEVENT
END:VCALENDAR
