BEGIN:VCALENDAR
VERSION:2.0
CALSCALE:GREGORIAN
METHOD:PUBLISH
PRODID://PLYC//1395354
BEGIN:VEVENT
DTSTAMP:20260424T123237
VTIMEZONE:America/New_York
DTSTART:20251220T163000Z
DTEND:20251220T173000Z
UID:1395354
SUMMARY:Piano Masterclass & Recital with Chee-Hang See
LOCATION:Heartland Art Center, 214 N. Michigan St., Plymouth, IN, 46563
DESCRIPTION:Piano Masterclass & Recital with Chee-Hang See\n\n12/20/25 11:30 AM EST\n - 12/20/25 12:30 PM EST\Description:\nMasterclass: 11:30 AM • Recital: 7:00 PM\nWe are honored to host internationally acclaimed pianist and conductor Chee-Hang See for a day of learning and an evening of world-class music.\nStudent inquiries: alexjeffirs@gmail.com\Details:\nFree!\Location:\nHeartland Art Center\n214 N. Michigan St.\nPlymouth, IN 46563
X-ALT-DESC;FMTTYPE=text/html:Piano Masterclass & Recital with Chee-Hang See<br /><br />12/20/25 11:30 AM EST - 12/20/25 12:30 PM EST<br />Description:<br /><strong data-end="1586" data-start="1542">Masterclass: 11:30 AM &bull; Recital: 7:00 PM</strong><br data-end="1589" data-start="1586" />
We are honored to host internationally acclaimed pianist and conductor <strong data-end="1677" data-start="1660">Chee-Hang See</strong> for a day of learning and an evening of world-class music.<br data-end="1739" data-start="1736" />
<strong data-end="1761" data-start="1739">Student inquiries:</strong> <a data-end="1783" data-start="1762" rel="noopener">alexjeffirs@gmail.com</a><br />Details:<br />Free!<br />Location:<br />Heartland Art Center<br />214 N. Michigan St.<br />Plymouth, IN 46563
PRIORITY:3
TRANSP:TRANSPARENT
BEGIN:VALARM
TRIGGER:-PT5M
ACTION:DISPLAY
DESCRIPTION:Reminder
END:VALARM
END:VEVENT
END:VCALENDAR
