BEGIN:VCALENDAR
VERSION:2.0
CALSCALE:GREGORIAN
METHOD:PUBLISH
PRODID://LASS//1395355
BEGIN:VEVENT
DTSTAMP:20260424T123903
VTIMEZONE:America/Los_Angeles
DTSTART:20251206T010000Z
DTEND:20251226T050000Z
UID:1395355
SUMMARY:Drive Through a Sparkly Winter Wonderland at the Fairgroundsâ€™ Festival of Lights
LOCATION:Lassen County Fairgrounds
DESCRIPTION:Drive Through a Sparkly Winter Wonderland at the Fairgroundsâ€™ Festival of Lights\n\n12/05/25 05:00 PM PST\n - 12/25/25 09:00 PM PST\Location:\nLassen County Fairgrounds\n\n,
X-ALT-DESC;FMTTYPE=text/html:Drive Through a Sparkly Winter Wonderland at the Fairgroundsâ€™ Festival of Lights<br /><br />12/05/25 05:00 PM PST - 12/25/25 09:00 PM PST<br />Location:<br />Lassen County Fairgrounds<br /><br />,  
PRIORITY:3
TRANSP:TRANSPARENT
BEGIN:VALARM
TRIGGER:-PT5M
ACTION:DISPLAY
DESCRIPTION:Reminder
END:VALARM
END:VEVENT
END:VCALENDAR
