BEGIN:VCALENDAR
VERSION:2.0
CALSCALE:GREGORIAN
METHOD:PUBLISH
PRODID://LASS//1395358
BEGIN:VEVENT
DTSTAMP:20260424T123927
VTIMEZONE:America/Los_Angeles
DTSTART:20251219T020000Z
DTEND:20251219T040000Z
UID:1395358
SUMMARY:Mt Lassen Dance Academy Presents The Polar Express
LOCATION:Susanville Veterans Hall
DESCRIPTION:Mt Lassen Dance Academy Presents The Polar Express\n\n12/18/25 06:00 PM PST\n - 12/18/25 08:00 PM PST\Location:\nSusanville Veterans Hall\n\n,
X-ALT-DESC;FMTTYPE=text/html:Mt Lassen Dance Academy Presents The Polar Express<br /><br />12/18/25 06:00 PM PST - 12/18/25 08:00 PM PST<br />Location:<br />Susanville Veterans Hall<br /><br />,  
PRIORITY:3
TRANSP:TRANSPARENT
BEGIN:VALARM
TRIGGER:-PT5M
ACTION:DISPLAY
DESCRIPTION:Reminder
END:VALARM
END:VEVENT
END:VCALENDAR
