BEGIN:VCALENDAR
VERSION:2.0
CALSCALE:GREGORIAN
METHOD:PUBLISH
PRODID://JCOC//1395500
BEGIN:VEVENT
DTSTAMP:20260424T150058
VTIMEZONE:America/Chicago
DTSTART:20251214T190000Z
DTEND:20251214T220000Z
UID:1395500
SUMMARY:Back Nine Golf - Holiday Open House
LOCATION:Back Nine Golf, 12121 S Elm St, Jenks, OK, 74037
DESCRIPTION:Back Nine Golf - Holiday Open House\n\n12/14/25 01:00 PM CST\n - 12/14/25 04:00 PM CST\Description:\nJoin us for a fun & festive afternoon at Back Nine Golf! Enjoy indoor golf simulator play, a  drink truck, contests, prizes, and holiday music. Food, cookies, and other desserts will be provided. The first 50 guests will receive a free drink.\n\nDate: Sunday, December 14, 2025\nTime: 1:00–4:00 PM\nLocation: 12121 S. Elm Street, Jenks, OK\n\nRSVP by Friday, December 12 to receive a raffle ticket for a chance to win a 1-month membership: Jenks@thebackninegolf.com\n\nCome celebrate the season with fun, food, and friendly competition!\n\Location:\nBack Nine Golf\n12121 S Elm St\nJenks, OK 74037
X-ALT-DESC;FMTTYPE=text/html:Back Nine Golf - Holiday Open House<br /><br />12/14/25 01:00 PM CST - 12/14/25 04:00 PM CST<br />Description:<br /><p data-end="373" data-start="127">Join us for a fun &amp; festive afternoon at Back Nine Golf! Enjoy indoor golf simulator play, a &nbsp;drink truck, contests, prizes, and holiday music. Food, cookies, and other desserts will be provided. The first 50 guests will receive a free drink.</p>

<p data-end="482" data-start="375"><strong data-end="384" data-start="375">Date:</strong>&nbsp;Sunday, December 14, 2025<br data-end="413" data-start="410" />
<strong data-end="422" data-start="413">Time:</strong>&nbsp;1:00&ndash;4:00 PM<br data-end="438" data-start="435" />
<strong data-end="451" data-start="438">Location:</strong>&nbsp;12121 S. Elm Street, Jenks, OK</p>

<p data-end="606" data-start="484">RSVP by Friday, December 12 to receive a raffle ticket for a chance to win a 1-month membership:&nbsp;<a data-end="606" data-start="581" rel="noopener">Jenks@thebackninegolf.com</a></p>

<p data-end="675" data-start="608">Come celebrate the season with fun, food, and friendly competition!</p>
<br />Location:<br />Back Nine Golf<br />12121 S Elm St<br />Jenks, OK 74037
PRIORITY:3
TRANSP:TRANSPARENT
BEGIN:VALARM
TRIGGER:-PT5M
ACTION:DISPLAY
DESCRIPTION:Reminder
END:VALARM
END:VEVENT
END:VCALENDAR
