BEGIN:VCALENDAR
VERSION:2.0
CALSCALE:GREGORIAN
METHOD:PUBLISH
PRODID://JCOC//1395602
BEGIN:VEVENT
DTSTAMP:20260424T150120
VTIMEZONE:America/Chicago
DTSTART:20251210T170000Z
DTEND:20251210T180000Z
UID:1395602
SUMMARY:Ribbon Cutting: H2Health
LOCATION:H2 Health, 404 S Elm St , Jenks, OK, 74037
DESCRIPTION:Ribbon Cutting: H2Health\n\n12/10/25 11:00 AM CST\n - 12/10/25 12:00 PM CST\Description:\nJoin the Jenks Chamber of Commerce for a ribbon cutting celebrating H2Health’s Jenks location on Wednesday, December 10 at 11am. H2Health is dedicated to helping individuals live healthier, more active lives through personalized rehabilitation and wellness services. Come help us welcome their team to the community, connect with fellow Chamber members, and show your support for a growing local business.\Location:\nH2 Health\n404 S Elm St \nJenks, OK 74037
X-ALT-DESC;FMTTYPE=text/html:Ribbon Cutting: H2Health<br /><br />12/10/25 11:00 AM CST - 12/10/25 12:00 PM CST<br />Description:<br />Join the Jenks Chamber of Commerce for a ribbon cutting celebrating H2Health&rsquo;s Jenks location on Wednesday, December 10 at 11am. H2Health is dedicated to helping individuals live healthier, more active lives through personalized rehabilitation and wellness services. Come help us welcome their team to the community, connect with fellow Chamber members, and show your support for a growing local business.<br />Location:<br />H2 Health<br />404 S Elm St <br />Jenks, OK 74037
PRIORITY:3
TRANSP:TRANSPARENT
BEGIN:VALARM
TRIGGER:-PT5M
ACTION:DISPLAY
DESCRIPTION:Reminder
END:VALARM
END:VEVENT
END:VCALENDAR
