BEGIN:VCALENDAR
VERSION:2.0
CALSCALE:GREGORIAN
METHOD:PUBLISH
PRODID://JCOC//1395610
BEGIN:VEVENT
DTSTAMP:20260424T095116
VTIMEZONE:America/Chicago
DTSTART:20250909T230000Z
DTEND:20260521T003000Z
UID:1395610
SUMMARY:Leadership Jenks Class 38
LOCATION:, Jenks, Ok, 74037
DESCRIPTION:Leadership Jenks Class 38\n\n09/09/25 06:00 PM CST\n - 05/20/26 07:30 PM CST\Description:\nREGISTRATION IS CLOSED FOR CLASS 38:\nJoin us for Leadership Jenks 39 starting September 2026!\n\nLeadership Jenks will welcome its 38th session, providing attendees an overview of how our city, schools, governments, and chamber all work. Attendees network, interact with civic leaders and become more knowledgeable citizens.\n\nMeets 9 times a year, locations and dates TBD. (September 2025 - May 2026) \nABOUT LEADERSHIP JENKS\n\nThe goal of Leadership Jenks is to identify, motivate and educate emerging leaders in our community. Leadership Jenks is a joint community leadership-building program organized by the Jenks Chamber of Commerce.\n\nMISSION\n\nLeadership Jenks aims to promote and enhance community leadership through an in-depth introduction to social, economic, business and policy issues in Jenks. Leadership Jenks provides a rich networking environment and access to community, county and state leaders.\nPresented by: Invenergy and Red River Payroll\Location:\n\n\nJenks, Ok 74037
X-ALT-DESC;FMTTYPE=text/html:Leadership Jenks Class 38<br /><br />09/09/25 06:00 PM CST - 05/20/26 07:30 PM CST<br />Description:<br /><span style="font-size:20px"><u><strong>REGISTRATION IS CLOSED FOR CLASS 38:</strong></u></span><br />
<span style="font-size:16px"><strong>Join us for Leadership Jenks 39 starting September 2026!</strong></span><br />
<br />
Leadership Jenks will welcome its 38th session, providing attendees an overview of how our city, schools, governments, and chamber all work. Attendees network, interact with civic leaders and become more knowledgeable citizens.<br />
<br />
Meets 9 times a year, locations and dates TBD. (September 2025 - May 2026)&nbsp;
<h2><strong>ABOUT LEADERSHIP JENKS</strong></h2>

<p>The goal of Leadership Jenks is to identify, motivate and educate emerging leaders in our community. Leadership Jenks is a joint community leadership-building program organized by the Jenks Chamber of Commerce.</p>

<h2><strong>MISSION</strong></h2>

<p>Leadership Jenks aims to promote and enhance community leadership through an in-depth introduction to social, economic, business and policy issues in Jenks. Leadership Jenks provides a rich networking environment and access to community, county and state leaders.</p>
Presented by: Invenergy and Red River Payroll<br />Location:<br /><br /><br />Jenks, Ok 74037
PRIORITY:3
TRANSP:TRANSPARENT
BEGIN:VALARM
TRIGGER:-PT5M
ACTION:DISPLAY
DESCRIPTION:Reminder
END:VALARM
END:VEVENT
END:VCALENDAR
