BEGIN:VCALENDAR
VERSION:2.0
CALSCALE:GREGORIAN
METHOD:PUBLISH
PRODID://JCOC//1395626
BEGIN:VEVENT
DTSTAMP:20260424T150917
VTIMEZONE:America/Chicago
DTSTART:20251211T150000Z
DTEND:20251211T154500Z
UID:1395626
SUMMARY:Morning Mingle
LOCATION:Jenks Chamber of Commerce , 161 S. Riverfront Drive, Jenks, OK, 74037
DESCRIPTION:Morning Mingle\n\n12/11/25 09:00 AM CST\n - 12/11/25 09:45 AM CST\Description:\nThe Jenks Chamber invites you to Morning Mingle, a casual gathering with coffee and conversation with fellow members, community partners, and Chamber staff. Join us this Thursday, December 11th at 9 AM at the Jenks Chamber office, 161 S. Riverfront Dr, Suite 112.\Location:\nJenks Chamber of Commerce \n161 S. Riverfront Drive\nJenks, OK 74037
X-ALT-DESC;FMTTYPE=text/html:Morning Mingle<br /><br />12/11/25 09:00 AM CST - 12/11/25 09:45 AM CST<br />Description:<br />The Jenks Chamber invites you to Morning Mingle, a casual gathering with coffee and conversation with fellow members, community partners, and Chamber staff. Join us this Thursday, December 11th at 9 AM at the Jenks Chamber office, 161 S. Riverfront Dr, Suite 112.<br />Location:<br />Jenks Chamber of Commerce <br />161 S. Riverfront Drive<br />Jenks, OK 74037
PRIORITY:3
TRANSP:TRANSPARENT
BEGIN:VALARM
TRIGGER:-PT5M
ACTION:DISPLAY
DESCRIPTION:Reminder
END:VALARM
END:VEVENT
END:VCALENDAR
