BEGIN:VCALENDAR
VERSION:2.0
CALSCALE:GREGORIAN
METHOD:PUBLISH
PRODID://JCOC//1395629
BEGIN:VEVENT
DTSTAMP:20260424T150124
VTIMEZONE:America/Chicago
DTSTART:20251217T173000Z
DTEND:20251217T190000Z
UID:1395629
SUMMARY:December Member Luncheon
LOCATION:The Ranch, 10596 S Elm St., Jenks, Ok, 74037
DESCRIPTION:December Member Luncheon\n\n12/17/25 11:30 AM CST\n - 12/17/25 01:00 PM CST\Description:\nJoin us for the Jenks Chamber December Luncheon on Wednesday, December 17, at 11:30 a.m. at The Ranch.\n\n \n\nOur guest speaker is Jeff “Surge” Berg, CEO and Founder of Surge Leadership and creator of Walmart’s “Be the Spark” campaign. He’ll share insights on leadership, communication, and purpose.\n\n \n\nWe’ll also hear from local nonprofits about their missions and year-end needs.\n\nSponsored by Our Blood Institute and Oklahoma Central Credit Union.\n\nDoors open at 11:30 for networking, with the program beginning at noon.\n\nJoin us as we celebrate local nonprofits and look ahead to an exciting 2026.\n\Location:\nThe Ranch\n10596 S Elm St.\nJenks, Ok 74037
X-ALT-DESC;FMTTYPE=text/html:December Member Luncheon<br /><br />12/17/25 11:30 AM CST - 12/17/25 01:00 PM CST<br />Description:<br /><p>Join us for the Jenks Chamber December Luncheon on Wednesday, December 17, at 11:30 a.m. at The Ranch.</p>

<p>&nbsp;</p>

<p>Our guest speaker is Jeff &ldquo;Surge&rdquo; Berg, CEO and Founder of Surge Leadership and creator of Walmart&rsquo;s &ldquo;Be the Spark&rdquo; campaign. He&rsquo;ll share insights on leadership, communication, and purpose.</p>

<p>&nbsp;</p>

<p>We&rsquo;ll also hear from local nonprofits about their missions and year-end needs.</p>

<p>Sponsored by Our Blood Institute and Oklahoma Central Credit Union.</p>

<p>Doors open at 11:30 for networking, with the program beginning at noon.</p>

<p>Join us as we celebrate local nonprofits and look ahead to an exciting 2026.</p>
<br />Location:<br />The Ranch<br />10596 S Elm St.<br />Jenks, Ok 74037
PRIORITY:3
TRANSP:TRANSPARENT
BEGIN:VALARM
TRIGGER:-PT5M
ACTION:DISPLAY
DESCRIPTION:Reminder
END:VALARM
END:VEVENT
END:VCALENDAR
