BEGIN:VCALENDAR
VERSION:2.0
CALSCALE:GREGORIAN
METHOD:PUBLISH
PRODID://JCOC//1395631
BEGIN:VEVENT
DTSTAMP:20260424T150119
VTIMEZONE:America/Chicago
DTSTART:20251216T220000Z
DTEND:20251217T000000Z
UID:1395631
SUMMARY:Jenks Chamber Members Christmas Party
LOCATION:Chamber Office, 161 S Rierfront Drive, Jenks, OK, 74037
DESCRIPTION:Jenks Chamber Members Christmas Party\n\n12/16/25 04:00 PM CST\n - 12/16/25 06:00 PM CST\Description:\nJoin us for our festive come-and-go Chamber Member Christmas Party at the Jenks Chamber Office on Tuesday, December 16 from 4:00–6:00 p.m. There is no cost to attend, but please RSVP using the blue 'Register for this Event' button by Friday, December 12. Let’s celebrate the season together! \n\nThis event is for Chamber Members Only.\n\Location:\nChamber Office\n161 S Rierfront Drive\nJenks, OK 74037
X-ALT-DESC;FMTTYPE=text/html:Jenks Chamber Members Christmas Party<br /><br />12/16/25 04:00 PM CST - 12/16/25 06:00 PM CST<br />Description:<br /><p data-end="309" data-start="54">Join us for our festive come-and-go Chamber Member Christmas Party at the Jenks Chamber Office on Tuesday, December 16 from 4:00&ndash;6:00 p.m. There is no cost to attend, but please RSVP using the blue 'Register for this Event' button&nbsp;by Friday, December 12. Let&rsquo;s celebrate the season together!&nbsp;</p>

<p data-end="350" data-is-last-node="" data-is-only-node="" data-start="311">This event is for Chamber Members Only.</p>
<br />Location:<br />Chamber Office<br />161 S Rierfront Drive<br />Jenks, OK 74037
PRIORITY:3
TRANSP:TRANSPARENT
BEGIN:VALARM
TRIGGER:-PT5M
ACTION:DISPLAY
DESCRIPTION:Reminder
END:VALARM
END:VEVENT
END:VCALENDAR
