BEGIN:VCALENDAR
VERSION:2.0
CALSCALE:GREGORIAN
METHOD:PUBLISH
PRODID://CCCC//1396201
BEGIN:VEVENT
DTSTAMP:20260424T084644
VTIMEZONE:America/Los_Angeles
DTSTART:20260325T160000Z
DTEND:20260325T180000Z
UID:1396201
SUMMARY:How to Get Funding to Start, Grow, and Expand Your Business
LOCATION:Hampton Inn & Suites, 520 Adobe Road, Red Bluff, CA, 96080
DESCRIPTION:How to Get Funding to Start, Grow, and Expand Your Business\n\n03/25/26 09:00 AM PST\n - 03/25/26 11:00 AM PST\Description:\nAccessing funding can be critical to successfully start, grow, and expand a small business, and getting approved for business loans is challenging in the current lending climate. This workshop provides step-by-step information on funding opportunities available for business owners and entrepreneurs. You will be guided through the process of pursuing business financing including what to consider before applying for a loan, the factors of evaluation that all lenders use when reviewing your loan requests and tips on how to prepare based on your strengths and weaknesses. Topics include: SBA Loan requirements & application, traditional bank loans, lines of credit, and alternative lending programs.\n\n\n\n\n \Details:\nDate: Wednesday, March 25th, 2026\nTime: 9:00am – 11:00am\nLocation: 520 Adobe Road, Red Bluff\nCost: Free\nRegister Here:  https://www.buttecollegesbdc.com/events/\n\n\n\n\n\n\n \Location:\nHampton Inn & Suites\n520 Adobe Road\nRed Bluff, CA 96080
X-ALT-DESC;FMTTYPE=text/html:How to Get Funding to Start, Grow, and Expand Your Business<br /><br />03/25/26 09:00 AM PST - 03/25/26 11:00 AM PST<br />Description:<br />Accessing funding can be critical to successfully start, grow, and expand a small business, and getting approved for business loans is challenging in the current lending climate. This workshop provides step-by-step information on funding opportunities available for business owners and entrepreneurs. You will be guided through the process of pursuing business financing including what to consider before applying for a loan, the factors of evaluation that all lenders use when reviewing your loan requests and tips on how to prepare based on your strengths and weaknesses. Topics include: SBA Loan requirements &amp; application, traditional bank loans, lines of credit, and alternative lending programs.<br />
<br />
<br />
<br />
<br />
&nbsp;<br />Details:<br />Date: Wednesday, March 25th, 2026<br />
Time: 9:00am &ndash; 11:00am<br />
Location: 520 Adobe Road, Red Bluff<br />
Cost: Free<br />
Register Here: &nbsp;https://www.buttecollegesbdc.com/events/<br />
<br />
<br />
<br />
<br />
<br />
<br />
&nbsp;<br />Location:<br />Hampton Inn & Suites<br />520 Adobe Road<br />Red Bluff, CA 96080
PRIORITY:3
TRANSP:TRANSPARENT
BEGIN:VALARM
TRIGGER:-PT5M
ACTION:DISPLAY
DESCRIPTION:Reminder
END:VALARM
END:VEVENT
END:VCALENDAR
