BEGIN:VCALENDAR
VERSION:2.0
CALSCALE:GREGORIAN
METHOD:PUBLISH
PRODID://OCON//1396401
BEGIN:VEVENT
DTSTAMP:20260424T152501
VTIMEZONE:America/New_York
DTSTART:20260909T121500Z
DTEND:20260909T131500Z
UID:1396401
SUMMARY:PowerHour | Lydia's Place
LOCATION:Oconee Chamber of Commerce, 55 Nancy Drive, Watkinsville, GA, 30677
DESCRIPTION:PowerHour | Lydia's Place\n\n09/09/26 08:15 AM EST\n - 09/09/26 09:15 AM EST\Description:\nJoin us for a fast paced, fun, morning networking session held in the Oconee Chamber's lower-level conference room. \n \Location:\nOconee Chamber of Commerce\n55 Nancy Drive\nWatkinsville, GA 30677
X-ALT-DESC;FMTTYPE=text/html:PowerHour | Lydia's Place<br /><br />09/09/26 08:15 AM EST - 09/09/26 09:15 AM EST<br />Description:<br />Join us for a fast paced, fun, morning networking session held in the Oconee Chamber's lower-level conference room.&nbsp;<br />
&nbsp;<br />Location:<br />Oconee Chamber of Commerce<br />55 Nancy Drive<br />Watkinsville, GA 30677
PRIORITY:3
TRANSP:TRANSPARENT
BEGIN:VALARM
TRIGGER:-PT5M
ACTION:DISPLAY
DESCRIPTION:Reminder
END:VALARM
END:VEVENT
END:VCALENDAR
