BEGIN:VCALENDAR
VERSION:2.0
CALSCALE:GREGORIAN
METHOD:PUBLISH
PRODID://OCON//1396402
BEGIN:VEVENT
DTSTAMP:20260424T152501
VTIMEZONE:America/New_York
DTSTART:20260915T203000Z
DTEND:20260915T220000Z
UID:1396402
SUMMARY:Business After Hours | Chiropractic Works
LOCATION:Chiropractic Works, 1050 Barber Creek Drive, Watkinsville, GA, 30677
DESCRIPTION:Business After Hours | Chiropractic Works\n\n09/15/26 04:30 PM EST\n - 09/15/26 06:00 PM EST\Description:\nA fun, casual open networking event held at an Oconee Chamber Partner's location. \n \Location:\nChiropractic Works\n1050 Barber Creek Drive\nWatkinsville, GA 30677
X-ALT-DESC;FMTTYPE=text/html:Business After Hours | Chiropractic Works<br /><br />09/15/26 04:30 PM EST - 09/15/26 06:00 PM EST<br />Description:<br />A fun, casual open networking event held at an Oconee Chamber Partner's location.&nbsp;<br />
&nbsp;<br />Location:<br />Chiropractic Works<br />1050 Barber Creek Drive<br />Watkinsville, GA 30677
PRIORITY:3
TRANSP:TRANSPARENT
BEGIN:VALARM
TRIGGER:-PT5M
ACTION:DISPLAY
DESCRIPTION:Reminder
END:VALARM
END:VEVENT
END:VCALENDAR
