BEGIN:VCALENDAR
VERSION:2.0
CALSCALE:GREGORIAN
METHOD:PUBLISH
PRODID://OCON//1396404
BEGIN:VEVENT
DTSTAMP:20260424T163308
VTIMEZONE:America/New_York
DTSTART:20261029T123000Z
DTEND:20261029T133000Z
UID:1396404
SUMMARY:The Morning Mix'n | Piedmont Athens Breast Health Center
LOCATION:Piedmont Athens Breast Health Center, 1305 Jennings Mill Road, Watkinsville, GA, 30677
DESCRIPTION:The Morning Mix'n | Piedmont Athens Breast Health Center\n\n10/29/26 08:30 AM EST\n - 10/29/26 09:30 AM EST\Description:\nStart your day with a morning open networking event held at an Oconee Chamber Partner's location. Drop in anytime between 8:30 a.m. - 9:30 a.m. \n \Location:\nPiedmont Athens Breast Health Center\n1305 Jennings Mill Road\nWatkinsville, GA 30677
X-ALT-DESC;FMTTYPE=text/html:The Morning Mix'n | Piedmont Athens Breast Health Center<br /><br />10/29/26 08:30 AM EST - 10/29/26 09:30 AM EST<br />Description:<br />Start your day with a morning open networking event held at an Oconee Chamber Partner's location. Drop in anytime between 8:30 a.m. - 9:30 a.m.&nbsp;<br />
&nbsp;<br />Location:<br />Piedmont Athens Breast Health Center<br />1305 Jennings Mill Road<br />Watkinsville, GA 30677
PRIORITY:3
TRANSP:TRANSPARENT
BEGIN:VALARM
TRIGGER:-PT5M
ACTION:DISPLAY
DESCRIPTION:Reminder
END:VALARM
END:VEVENT
END:VCALENDAR
