BEGIN:VCALENDAR
VERSION:2.0
CALSCALE:GREGORIAN
METHOD:PUBLISH
PRODID://OCON//1396406
BEGIN:VEVENT
DTSTAMP:20260424T163308
VTIMEZONE:America/New_York
DTSTART:20261112T131500Z
DTEND:20261112T141500Z
UID:1396406
SUMMARY:PowerHour | New View Integrative Pediatrics
LOCATION:Oconee Chamber of Commerce, 55 Nancy Drive, Watkinsville, GA, 30677
DESCRIPTION:PowerHour | New View Integrative Pediatrics\n\n11/12/26 08:15 AM EST\n - 11/12/26 09:15 AM EST\Location:\nOconee Chamber of Commerce\n55 Nancy Drive\nWatkinsville, GA 30677
X-ALT-DESC;FMTTYPE=text/html:PowerHour | New View Integrative Pediatrics<br /><br />11/12/26 08:15 AM EST - 11/12/26 09:15 AM EST<br />Location:<br />Oconee Chamber of Commerce<br />55 Nancy Drive<br />Watkinsville, GA 30677
PRIORITY:3
TRANSP:TRANSPARENT
BEGIN:VALARM
TRIGGER:-PT5M
ACTION:DISPLAY
DESCRIPTION:Reminder
END:VALARM
END:VEVENT
END:VCALENDAR
