BEGIN:VCALENDAR
VERSION:2.0
CALSCALE:GREGORIAN
METHOD:PUBLISH
PRODID://OCON//1396408
BEGIN:VEVENT
DTSTAMP:20260424T152457
VTIMEZONE:America/New_York
DTSTART:20261203T133000Z
DTEND:20261203T143000Z
UID:1396408
SUMMARY:The Morning Mix'n | BankSouth
LOCATION:BankSouth, 7911 Macon Highway, Watkinsville, GA, 30677
DESCRIPTION:The Morning Mix'n | BankSouth\n\n12/03/26 08:30 AM EST\n - 12/03/26 09:30 AM EST\Location:\nBankSouth\n7911 Macon Highway\nWatkinsville, GA 30677
X-ALT-DESC;FMTTYPE=text/html:The Morning Mix'n | BankSouth<br /><br />12/03/26 08:30 AM EST - 12/03/26 09:30 AM EST<br />Location:<br />BankSouth<br />7911 Macon Highway<br />Watkinsville, GA 30677
PRIORITY:3
TRANSP:TRANSPARENT
BEGIN:VALARM
TRIGGER:-PT5M
ACTION:DISPLAY
DESCRIPTION:Reminder
END:VALARM
END:VEVENT
END:VCALENDAR
