BEGIN:VCALENDAR
VERSION:2.0
CALSCALE:GREGORIAN
METHOD:PUBLISH
PRODID://OCON//1396437
BEGIN:VEVENT
DTSTAMP:20260424T130106
VTIMEZONE:America/New_York
DTSTART:20260130T163000Z
DTEND:20260130T173000Z
UID:1396437
SUMMARY:Ribbon Cutting | Christian Brothers Automotive 
LOCATION:Christian Brothers Automotive, 1079 Hog Mountain Road, Watkinsville, GA, 30677
DESCRIPTION:Ribbon Cutting | Christian Brothers Automotive \n\n01/30/26 11:30 AM EST\n - 01/30/26 12:30 PM EST\Location:\nChristian Brothers Automotive\n1079 Hog Mountain Road\nWatkinsville, GA 30677
X-ALT-DESC;FMTTYPE=text/html:Ribbon Cutting | Christian Brothers Automotive <br /><br />01/30/26 11:30 AM EST - 01/30/26 12:30 PM EST<br />Location:<br />Christian Brothers Automotive<br />1079 Hog Mountain Road<br />Watkinsville, GA 30677
PRIORITY:3
TRANSP:TRANSPARENT
BEGIN:VALARM
TRIGGER:-PT5M
ACTION:DISPLAY
DESCRIPTION:Reminder
END:VALARM
END:VEVENT
END:VCALENDAR
