BEGIN:VCALENDAR
VERSION:2.0
CALSCALE:GREGORIAN
METHOD:PUBLISH
PRODID://OCON//1397852
BEGIN:VEVENT
DTSTAMP:20260424T130117
VTIMEZONE:America/New_York
DTSTART:20260108T133000Z
DTEND:20260108T143000Z
UID:1397852
SUMMARY:The Morning Mix'n | Watkinsville First United Methodist Church
LOCATION:First United Methodist Church, 1331 New High Shoals Road, Watkinsville, GA, 30677
DESCRIPTION:The Morning Mix'n | Watkinsville First United Methodist Church\n\n01/08/26 08:30 AM EST\n - 01/08/26 09:30 AM EST\Description:\nStart your day with a morning open networking event held at an Oconee Chamber Partner's location. Drop in anytime between 8:30 a.m. - 9:30 a.m. \Location:\nFirst United Methodist Church\n1331 New High Shoals Road\nWatkinsville, GA 30677
X-ALT-DESC;FMTTYPE=text/html:The Morning Mix'n | Watkinsville First United Methodist Church<br /><br />01/08/26 08:30 AM EST - 01/08/26 09:30 AM EST<br />Description:<br />Start your day with a morning open networking event held at an Oconee Chamber Partner's location. Drop in anytime between 8:30 a.m. - 9:30 a.m.&nbsp;<br />Location:<br />First United Methodist Church<br />1331 New High Shoals Road<br />Watkinsville, GA 30677
PRIORITY:3
TRANSP:TRANSPARENT
BEGIN:VALARM
TRIGGER:-PT5M
ACTION:DISPLAY
DESCRIPTION:Reminder
END:VALARM
END:VEVENT
END:VCALENDAR
