BEGIN:VCALENDAR
VERSION:2.0
CALSCALE:GREGORIAN
METHOD:PUBLISH
PRODID://WEHO//1398587
BEGIN:VEVENT
DTSTAMP:20260424T112912
VTIMEZONE:America/Los_Angeles
DTSTART:20260108T200000Z
DTEND:20260108T213000Z
UID:1398587
SUMMARY:Legends of Sunset Meeting
LOCATION:, CA
DESCRIPTION:Legends of Sunset Meeting\n\n01/08/26 12:00 PM PST\n - 01/08/26 01:30 PM PST
X-ALT-DESC;FMTTYPE=text/html:Legends of Sunset Meeting<br /><br />01/08/26 12:00 PM PST - 01/08/26 01:30 PM PST
PRIORITY:3
TRANSP:TRANSPARENT
BEGIN:VALARM
TRIGGER:-PT5M
ACTION:DISPLAY
DESCRIPTION:Reminder
END:VALARM
END:VEVENT
END:VCALENDAR
