BEGIN:VCALENDAR
VERSION:2.0
CALSCALE:GREGORIAN
METHOD:PUBLISH
PRODID://WEHO//1398591
BEGIN:VEVENT
DTSTAMP:20260424T112911
VTIMEZONE:America/Los_Angeles
DTSTART:20260114T200000Z
DTEND:20260114T213000Z
UID:1398591
SUMMARY:Artist & Entertainer Committee Meeting
LOCATION:, CA
DESCRIPTION:Artist & Entertainer Committee Meeting\n\n01/14/26 12:00 PM PST\n - 01/14/26 01:30 PM PST\Description:\nIf you are interested in joining the committee, please email jwilson@wehochamber.com.
X-ALT-DESC;FMTTYPE=text/html:Artist & Entertainer Committee Meeting<br /><br />01/14/26 12:00 PM PST - 01/14/26 01:30 PM PST<br />Description:<br />If you are interested in joining the committee, please email jwilson@wehochamber.com.
PRIORITY:3
TRANSP:TRANSPARENT
BEGIN:VALARM
TRIGGER:-PT5M
ACTION:DISPLAY
DESCRIPTION:Reminder
END:VALARM
END:VEVENT
END:VCALENDAR
