BEGIN:VCALENDAR
VERSION:2.0
CALSCALE:GREGORIAN
METHOD:PUBLISH
PRODID://WEHO//1398593
BEGIN:VEVENT
DTSTAMP:20260424T112903
VTIMEZONE:America/Los_Angeles
DTSTART:20260119T170000Z
DTEND:20260120T020000Z
UID:1398593
SUMMARY:Martin Luther King Day - CHAMBER is CLOSED
LOCATION:, CA
DESCRIPTION:Martin Luther King Day - CHAMBER is CLOSED\n\n01/19/26 09:00 AM PST\n - 01/19/26 06:00 PM PST\Description:\n\n 
X-ALT-DESC;FMTTYPE=text/html:Martin Luther King Day - CHAMBER is CLOSED<br /><br />01/19/26 09:00 AM PST - 01/19/26 06:00 PM PST<br />Description:<br /><br />
&nbsp;
PRIORITY:3
TRANSP:TRANSPARENT
BEGIN:VALARM
TRIGGER:-PT5M
ACTION:DISPLAY
DESCRIPTION:Reminder
END:VALARM
END:VEVENT
END:VCALENDAR
