BEGIN:VCALENDAR
VERSION:2.0
CALSCALE:GREGORIAN
METHOD:PUBLISH
PRODID://WEHO//1398594
BEGIN:VEVENT
DTSTAMP:20260424T112911
VTIMEZONE:America/Los_Angeles
DTSTART:20260120T200000Z
DTEND:20260120T220000Z
UID:1398594
SUMMARY:WHCC Board of Directors Meeting
LOCATION:, CA
DESCRIPTION:WHCC Board of Directors Meeting\n\n01/20/26 12:00 PM PST\n - 01/20/26 02:00 PM PST
X-ALT-DESC;FMTTYPE=text/html:WHCC Board of Directors Meeting<br /><br />01/20/26 12:00 PM PST - 01/20/26 02:00 PM PST
PRIORITY:3
TRANSP:TRANSPARENT
BEGIN:VALARM
TRIGGER:-PT5M
ACTION:DISPLAY
DESCRIPTION:Reminder
END:VALARM
END:VEVENT
END:VCALENDAR
