BEGIN:VCALENDAR
VERSION:2.0
CALSCALE:GREGORIAN
METHOD:PUBLISH
PRODID://WEHO//1398595
BEGIN:VEVENT
DTSTAMP:20260424T112911
VTIMEZONE:America/Los_Angeles
DTSTART:20260122T000000Z
DTEND:20260122T020000Z
UID:1398595
SUMMARY:WHDD Board Meeting
LOCATION:, CA
DESCRIPTION:WHDD Board Meeting\n\n01/21/26 04:00 PM PST\n - 01/21/26 06:00 PM PST
X-ALT-DESC;FMTTYPE=text/html:WHDD Board Meeting<br /><br />01/21/26 04:00 PM PST - 01/21/26 06:00 PM PST
PRIORITY:3
TRANSP:TRANSPARENT
BEGIN:VALARM
TRIGGER:-PT5M
ACTION:DISPLAY
DESCRIPTION:Reminder
END:VALARM
END:VEVENT
END:VCALENDAR
