BEGIN:VCALENDAR
VERSION:2.0
CALSCALE:GREGORIAN
METHOD:PUBLISH
PRODID://WEHO//1398598
BEGIN:VEVENT
DTSTAMP:20260424T101545
VTIMEZONE:America/Los_Angeles
DTSTART:20260206T180000Z
DTEND:20260206T193000Z
UID:1398598
SUMMARY:First Friday All Business Meeting
LOCATION:, CA
DESCRIPTION:First Friday All Business Meeting\n\n02/06/26 10:00 AM PST\n - 02/06/26 11:30 AM PST
X-ALT-DESC;FMTTYPE=text/html:First Friday All Business Meeting<br /><br />02/06/26 10:00 AM PST - 02/06/26 11:30 AM PST
PRIORITY:3
TRANSP:TRANSPARENT
BEGIN:VALARM
TRIGGER:-PT5M
ACTION:DISPLAY
DESCRIPTION:Reminder
END:VALARM
END:VEVENT
END:VCALENDAR
