BEGIN:VCALENDAR
VERSION:2.0
CALSCALE:GREGORIAN
METHOD:PUBLISH
PRODID://WEHO//1398599
BEGIN:VEVENT
DTSTAMP:20260424T101615
VTIMEZONE:America/Los_Angeles
DTSTART:20260211T000000Z
DTEND:20260211T020000Z
UID:1398599
SUMMARY:Government Affairs Committee Meeting
LOCATION:, CA
DESCRIPTION:Government Affairs Committee Meeting\n\n02/10/26 04:00 PM PST\n - 02/10/26 06:00 PM PST
X-ALT-DESC;FMTTYPE=text/html:Government Affairs Committee Meeting<br /><br />02/10/26 04:00 PM PST - 02/10/26 06:00 PM PST
PRIORITY:3
TRANSP:TRANSPARENT
BEGIN:VALARM
TRIGGER:-PT5M
ACTION:DISPLAY
DESCRIPTION:Reminder
END:VALARM
END:VEVENT
END:VCALENDAR
