BEGIN:VCALENDAR
VERSION:2.0
CALSCALE:GREGORIAN
METHOD:PUBLISH
PRODID://WEHO//1398601
BEGIN:VEVENT
DTSTAMP:20260424T101615
VTIMEZONE:America/Los_Angeles
DTSTART:20260212T200000Z
DTEND:20260212T213000Z
UID:1398601
SUMMARY:Legends of Sunset Meeting
LOCATION:, CA
DESCRIPTION:Legends of Sunset Meeting\n\n02/12/26 12:00 PM PST\n - 02/12/26 01:30 PM PST
X-ALT-DESC;FMTTYPE=text/html:Legends of Sunset Meeting<br /><br />02/12/26 12:00 PM PST - 02/12/26 01:30 PM PST
PRIORITY:3
TRANSP:TRANSPARENT
BEGIN:VALARM
TRIGGER:-PT5M
ACTION:DISPLAY
DESCRIPTION:Reminder
END:VALARM
END:VEVENT
END:VCALENDAR
