BEGIN:VCALENDAR
VERSION:2.0
CALSCALE:GREGORIAN
METHOD:PUBLISH
PRODID://WEHO//1398602
BEGIN:VEVENT
DTSTAMP:20260424T101545
VTIMEZONE:America/Los_Angeles
DTSTART:20260216T170000Z
DTEND:20260217T020000Z
UID:1398602
SUMMARY:President's Day - CHAMBER CLOSED
LOCATION:, CA
DESCRIPTION:President's Day - CHAMBER CLOSED\n\n02/16/26 09:00 AM PST\n - 02/16/26 06:00 PM PST
X-ALT-DESC;FMTTYPE=text/html:President's Day - CHAMBER CLOSED<br /><br />02/16/26 09:00 AM PST - 02/16/26 06:00 PM PST
PRIORITY:3
TRANSP:TRANSPARENT
BEGIN:VALARM
TRIGGER:-PT5M
ACTION:DISPLAY
DESCRIPTION:Reminder
END:VALARM
END:VEVENT
END:VCALENDAR
