BEGIN:VCALENDAR
VERSION:2.0
CALSCALE:GREGORIAN
METHOD:PUBLISH
PRODID://WEHO//1398605
BEGIN:VEVENT
DTSTAMP:20260424T101615
VTIMEZONE:America/Los_Angeles
DTSTART:20260223T213000Z
DTEND:20260223T233000Z
UID:1398605
SUMMARY:SSBID Board Meeting
LOCATION:, CA
DESCRIPTION:SSBID Board Meeting\n\n02/23/26 01:30 PM PST\n - 02/23/26 03:30 PM PST\Description:\nMoved to 4th Monday due to President's Day
X-ALT-DESC;FMTTYPE=text/html:SSBID Board Meeting<br /><br />02/23/26 01:30 PM PST - 02/23/26 03:30 PM PST<br />Description:<br />Moved to 4th Monday due to President's Day
PRIORITY:3
TRANSP:TRANSPARENT
BEGIN:VALARM
TRIGGER:-PT5M
ACTION:DISPLAY
DESCRIPTION:Reminder
END:VALARM
END:VEVENT
END:VCALENDAR
