BEGIN:VCALENDAR
VERSION:2.0
CALSCALE:GREGORIAN
METHOD:PUBLISH
PRODID://WEHO//1398606
BEGIN:VEVENT
DTSTAMP:20260424T101545
VTIMEZONE:America/Los_Angeles
DTSTART:20260226T020000Z
DTEND:20260226T040000Z
UID:1398606
SUMMARY:Mix and Mingle
LOCATION:, West Hollywood, CA, 90069
DESCRIPTION:Mix and Mingle\n\n02/25/26 06:00 PM PST\n - 02/25/26 08:00 PM PST\Description:\nMix & Mingle, February 25th\nTime: 6:00 PM - 8:00 PM\n\nCome for the nosh, and stay for the connections!\n\nRegistration is required.\n\nMembers in good standing, who pre-register online, attend for free. Day of registration (which includes walk-in) will incur a $10 fee.\n\nNon-Members are allowed to attend up to three mixers before being required to join the Chamber to continue attending this popular networking event. Non-Members pre-registration online fee is $20; day of registration, which includes walk-in, is $30. Pre-registration fee must be paid prior to the day of the event.\n\Location:\n\n\nWest Hollywood, CA 90069
X-ALT-DESC;FMTTYPE=text/html:Mix and Mingle<br /><br />02/25/26 06:00 PM PST - 02/25/26 08:00 PM PST<br />Description:<br /><p>Mix &amp; Mingle, February 25th<br />
<strong>Time: 6:00 PM&nbsp;- 8:00 PM</strong><br />
<br />
Come&nbsp;for the nosh, and stay for the connections!</p>

<p>Registration is required.</p>

<p>Members in good standing, who pre-register online, attend for free. Day of registration (which includes&nbsp;walk-in) will incur a $10 fee.</p>

<p>Non-Members are allowed to attend up to three mixers before being required to join the Chamber to continue attending this popular networking event. Non-Members pre-registration online fee is $20; day of registration, which includes walk-in, is $30. Pre-registration fee must be paid prior to the day of the event.</p>
<br />Location:<br /><br /><br />West Hollywood, CA 90069
PRIORITY:3
TRANSP:TRANSPARENT
BEGIN:VALARM
TRIGGER:-PT5M
ACTION:DISPLAY
DESCRIPTION:Reminder
END:VALARM
END:VEVENT
END:VCALENDAR
