BEGIN:VCALENDAR
VERSION:2.0
CALSCALE:GREGORIAN
METHOD:PUBLISH
PRODID://WEHO//1398607
BEGIN:VEVENT
DTSTAMP:20260424T101544
VTIMEZONE:America/Los_Angeles
DTSTART:20260227T210000Z
DTEND:20260227T223000Z
UID:1398607
SUMMARY:Orientation and Training for New & Seasoned Members
LOCATION:Online | Zoom, CA
DESCRIPTION:Orientation and Training for New & Seasoned Members\n\n02/27/26 01:00 PM PST\n - 02/27/26 02:30 PM PST\Description:\nAn online orientation session for the Marketing Landing Page, which is open to all members. Whether you have already participated in the class or are new to it, you are most welcome to join us. The session is scheduled for one hour, providing you with the opportunity to ask questions and engage in interactive discussions.\n\n\nQuestions? Email JWilson@wehochamber.com\n \Location:\nOnline | Zoom\n\n, CA
X-ALT-DESC;FMTTYPE=text/html:Orientation and Training for New & Seasoned Members<br /><br />02/27/26 01:00 PM PST - 02/27/26 02:30 PM PST<br />Description:<br />An online orientation session for the Marketing Landing Page, which is open to all members. Whether you have already participated in the class or are new to it, you are most welcome to join us. The session is scheduled for one hour, providing you with the opportunity to ask questions and engage in interactive discussions.<br />
<br />
<br />
Questions? Email JWilson@wehochamber.com<br />
&nbsp;<br />Location:<br />Online | Zoom<br /><br />, CA 
PRIORITY:3
TRANSP:TRANSPARENT
BEGIN:VALARM
TRIGGER:-PT5M
ACTION:DISPLAY
DESCRIPTION:Reminder
END:VALARM
END:VEVENT
END:VCALENDAR
